BEGIN:VCALENDAR
VERSION:2.0
PRODID:-//The Humane Society of Greenwood - ECPv4.7.3//NONSGML v1.0//EN
CALSCALE:GREGORIAN
METHOD:PUBLISH
X-WR-CALNAME:The Humane Society of Greenwood
X-ORIGINAL-URL:https://www.gwdhumanesociety.org
X-WR-CALDESC:Events for The Humane Society of Greenwood
BEGIN:VEVENT
DTSTART;VALUE=DATE:20200810
DTEND;VALUE=DATE:20200816
DTSTAMP:20260421T081816
CREATED:20200809T143913Z
LAST-MODIFIED:20200809T144055Z
UID:14549-1597017600-1597535999@www.gwdhumanesociety.org
SUMMARY:Pet of the Week (Aug 10 - Aug 15) - Domino and Samson
DESCRIPTION:Pets of the Week\nDomino and Samson are our Pets of the Week. Please click here to view their complete profiles! \n
URL:https://www.gwdhumanesociety.org/event/pet-of-the-week-aug-10-aug-15-domino-and-samson/
LOCATION:Humane Society of Greenwood\, 2820 Airport Rd\, Greenwood\, SC 29649\, 18500 Greenwade Ln\, United States
END:VEVENT
END:VCALENDAR