BEGIN:VCALENDAR
VERSION:2.0
PRODID:-//The Humane Society of Greenwood - ECPv4.7.3//NONSGML v1.0//EN
CALSCALE:GREGORIAN
METHOD:PUBLISH
X-WR-CALNAME:The Humane Society of Greenwood
X-ORIGINAL-URL:https://www.gwdhumanesociety.org
X-WR-CALDESC:Events for The Humane Society of Greenwood
BEGIN:VEVENT
DTSTART;TZID=America/New_York:20230425T110000
DTEND;TZID=America/New_York:20230425T140000
DTSTAMP:20260425T173846
CREATED:20230421T034958Z
LAST-MODIFIED:20230421T034958Z
UID:29258-1682420400-1682431200@www.gwdhumanesociety.org
SUMMARY:Lander visit Tuesday April 25th 11am-2pm
DESCRIPTION:Lander visit Tuesday April 25th 11am-2pm \n
URL:https://www.gwdhumanesociety.org/event/lander-visit-tuesday-april-25th-11am-2pm/
END:VEVENT
END:VCALENDAR