BEGIN:VCALENDAR
VERSION:2.0
PRODID:-//The Humane Society of Greenwood - ECPv4.7.3//NONSGML v1.0//EN
CALSCALE:GREGORIAN
METHOD:PUBLISH
X-WR-CALNAME:The Humane Society of Greenwood
X-ORIGINAL-URL:https://www.gwdhumanesociety.org
X-WR-CALDESC:Events for The Humane Society of Greenwood
BEGIN:VEVENT
DTSTART;TZID=America/New_York:20230424T110000
DTEND;TZID=America/New_York:20230424T123000
DTSTAMP:20260425T192426
CREATED:20230421T034935Z
LAST-MODIFIED:20230421T034935Z
UID:29256-1682334000-1682339400@www.gwdhumanesociety.org
SUMMARY:Lander visit Monday April 24th 11am-12:30pm
DESCRIPTION:Lander visit Monday April 24th 11am-12:30pm \n
URL:https://www.gwdhumanesociety.org/event/lander-visit-monday-april-24th-11am-1230pm/
END:VEVENT
END:VCALENDAR