BEGIN:VCALENDAR
VERSION:2.0
PRODID:-//The Humane Society of Greenwood - ECPv4.7.3//NONSGML v1.0//EN
CALSCALE:GREGORIAN
METHOD:PUBLISH
X-WR-CALNAME:The Humane Society of Greenwood
X-ORIGINAL-URL:https://www.gwdhumanesociety.org
X-WR-CALDESC:Events for The Humane Society of Greenwood
BEGIN:VEVENT
DTSTART;TZID=America/New_York:20230502T120000
DTEND;TZID=America/New_York:20230502T160000
DTSTAMP:20260425T143445
CREATED:20230516T203204Z
LAST-MODIFIED:20230516T203204Z
UID:29335-1683028800-1683043200@www.gwdhumanesociety.org
SUMMARY:Friday May 2nd 12-4pm - Adoption Event at Chefs Warehouse
DESCRIPTION:
URL:https://www.gwdhumanesociety.org/event/friday-may-2nd-12-4pm-adoption-event-at-chefs-warehouse/
END:VEVENT
END:VCALENDAR