BEGIN:VCALENDAR
VERSION:2.0
PRODID:-//The Humane Society of Greenwood - ECPv4.7.3//NONSGML v1.0//EN
CALSCALE:GREGORIAN
METHOD:PUBLISH
X-WR-CALNAME:The Humane Society of Greenwood
X-ORIGINAL-URL:https://www.gwdhumanesociety.org
X-WR-CALDESC:Events for The Humane Society of Greenwood
BEGIN:VEVENT
DTSTART;TZID=America/New_York:20240209T180000
DTEND;TZID=America/New_York:20240209T200000
DTSTAMP:20260422T020308
CREATED:20240206T055854Z
LAST-MODIFIED:20240206T055854Z
UID:29442-1707501600-1707508800@www.gwdhumanesociety.org
SUMMARY:February 9th - Speed dating 6-8pm @ HSOG
DESCRIPTION:February 9th &#8211; Speed dating 6-8pm @ HSOG \n
URL:https://www.gwdhumanesociety.org/event/february-9th-speed-dating-6-8pm-hsog/
END:VEVENT
END:VCALENDAR