BEGIN:VCALENDAR
VERSION:2.0
PRODID:-//The Humane Society of Greenwood - ECPv4.7.3//NONSGML v1.0//EN
CALSCALE:GREGORIAN
METHOD:PUBLISH
X-WR-CALNAME:The Humane Society of Greenwood
X-ORIGINAL-URL:https://www.gwdhumanesociety.org
X-WR-CALDESC:Events for The Humane Society of Greenwood
BEGIN:VEVENT
DTSTART;VALUE=DATE:20220801
DTEND;VALUE=DATE:20220831
DTSTAMP:20260423T085438
CREATED:20220803T032357Z
LAST-MODIFIED:20220803T032357Z
UID:27849-1659312000-1661903999@www.gwdhumanesociety.org
SUMMARY:Clear the shelters adoption event
DESCRIPTION:Clear the shelters adoption event \n
URL:https://www.gwdhumanesociety.org/event/clear-the-shelters-adoption-event/
LOCATION:Humane Society of Greenwood\, 2820 Airport Rd\, Greenwood\, SC 29649\, 18500 Greenwade Ln\, United States
END:VEVENT
END:VCALENDAR