BEGIN:VCALENDAR
VERSION:2.0
PRODID:-//The Humane Society of Greenwood - ECPv4.7.3//NONSGML v1.0//EN
CALSCALE:GREGORIAN
METHOD:PUBLISH
X-WR-CALNAME:The Humane Society of Greenwood
X-ORIGINAL-URL:https://www.gwdhumanesociety.org
X-WR-CALDESC:Events for The Humane Society of Greenwood
BEGIN:VEVENT
DTSTART;TZID=America/New_York:20230422T100000
DTEND;TZID=America/New_York:20230422T140000
DTSTAMP:20260425T204821
CREATED:20230421T034812Z
LAST-MODIFIED:20230421T034836Z
UID:29251-1682157600-1682172000@www.gwdhumanesociety.org
SUMMARY:Adoption Event @ Tidwell Jewelers Saturday April 22nd 10am-2pm
DESCRIPTION:Adoption Event @ Tidwell Jewelers Saturday April 22nd 10am-2pm \n
URL:https://www.gwdhumanesociety.org/event/adoption-event-tidwell-jewelers-saturday-april-22nd-10am-2pm/
END:VEVENT
END:VCALENDAR