BEGIN:VCALENDAR
VERSION:2.0
PRODID:-//The Humane Society of Greenwood - ECPv4.7.3//NONSGML v1.0//EN
CALSCALE:GREGORIAN
METHOD:PUBLISH
X-WR-CALNAME:The Humane Society of Greenwood
X-ORIGINAL-URL:https://www.gwdhumanesociety.org
X-WR-CALDESC:Events for The Humane Society of Greenwood
BEGIN:VEVENT
DTSTART;TZID=America/New_York:20230416T120000
DTEND;TZID=America/New_York:20230416T160000
DTSTAMP:20260425T204246
CREATED:20230421T034741Z
LAST-MODIFIED:20230421T034741Z
UID:29249-1681646400-1681660800@www.gwdhumanesociety.org
SUMMARY:Adoption Event @ Petsmart Sunday April 16th 12pm-4pm
DESCRIPTION:Adoption Event @ Petsmart Sunday April 16th 12pm-4pm \n
URL:https://www.gwdhumanesociety.org/event/adoption-event-petsmart-sunday-april-16th-12pm-4pm/
END:VEVENT
END:VCALENDAR