BEGIN:VCALENDAR
VERSION:2.0
PRODID:-//The Humane Society of Greenwood - ECPv4.7.3//NONSGML v1.0//EN
CALSCALE:GREGORIAN
METHOD:PUBLISH
X-WR-CALNAME:The Humane Society of Greenwood
X-ORIGINAL-URL:https://www.gwdhumanesociety.org
X-WR-CALDESC:Events for The Humane Society of Greenwood
BEGIN:VEVENT
DTSTART;TZID=America/New_York:20230512T100000
DTEND;TZID=America/New_York:20230512T140000
DTSTAMP:20260425T192121
CREATED:20230421T035125Z
LAST-MODIFIED:20230421T035125Z
UID:29264-1683885600-1683900000@www.gwdhumanesociety.org
SUMMARY:Adoption Event @ Petsmart Friday May 12th 10am-2pm
DESCRIPTION:Adoption Event @ Petsmart Friday May 12th 10am-2pm \n
URL:https://www.gwdhumanesociety.org/event/adoption-event-petsmart-friday-may-12th-10am-2pm/
END:VEVENT
END:VCALENDAR